BEGIN:VCALENDAR
VERSION:2.0
PRODID:-//Colegio Santa Ana y San Rafael - ECPv6.15.20//NONSGML v1.0//EN
CALSCALE:GREGORIAN
METHOD:PUBLISH
X-WR-CALNAME:Colegio Santa Ana y San Rafael
X-ORIGINAL-URL:https://sasr.es
X-WR-CALDESC:Eventos para Colegio Santa Ana y San Rafael
REFRESH-INTERVAL;VALUE=DURATION:PT1H
X-Robots-Tag:noindex
X-PUBLISHED-TTL:PT1H
BEGIN:VTIMEZONE
TZID:Europe/Madrid
BEGIN:DAYLIGHT
TZOFFSETFROM:+0100
TZOFFSETTO:+0200
TZNAME:CEST
DTSTART:20250330T010000
END:DAYLIGHT
BEGIN:STANDARD
TZOFFSETFROM:+0200
TZOFFSETTO:+0100
TZNAME:CET
DTSTART:20251026T010000
END:STANDARD
BEGIN:DAYLIGHT
TZOFFSETFROM:+0100
TZOFFSETTO:+0200
TZNAME:CEST
DTSTART:20260329T010000
END:DAYLIGHT
BEGIN:STANDARD
TZOFFSETFROM:+0200
TZOFFSETTO:+0100
TZNAME:CET
DTSTART:20261025T010000
END:STANDARD
BEGIN:DAYLIGHT
TZOFFSETFROM:+0100
TZOFFSETTO:+0200
TZNAME:CEST
DTSTART:20270328T010000
END:DAYLIGHT
BEGIN:STANDARD
TZOFFSETFROM:+0200
TZOFFSETTO:+0100
TZNAME:CET
DTSTART:20271031T010000
END:STANDARD
END:VTIMEZONE
BEGIN:VEVENT
DTSTART;VALUE=DATE:20260424
DTEND;VALUE=DATE:20260427
DTSTAMP:20260425T161908
CREATED:20251007T150841Z
LAST-MODIFIED:20251007T150922Z
UID:26922-1776988800-1777247999@sasr.es
SUMMARY:18ª Jornada XXXVII Juegos Deportivos ECM
DESCRIPTION:18ª Jornada XXXVII Juegos Deportivos ECM
URL:https://sasr.es/evento/18a-jornada-xxxvii-juegos-deportivos-ecm/
LOCATION:Zaragoza
CATEGORIES:Deportes
END:VEVENT
BEGIN:VEVENT
DTSTART;VALUE=DATE:20260428
DTEND;VALUE=DATE:20260501
DTSTAMP:20260425T161908
CREATED:20251007T153826Z
LAST-MODIFIED:20251007T153929Z
UID:26957-1777334400-1777593599@sasr.es
SUMMARY:Granja Escuela Farm Camp - 5º Primaria
DESCRIPTION:Los alumnos de 5º de Primaria visitan Farm Camp. \nWeb de Farm Camp
URL:https://sasr.es/evento/farm-camp-5o-primaria-2026/
LOCATION:Farm Camp\, Carretera Maluque\, s/n\, Mohernando\, Guadalajara\, España
CATEGORIES:Excursiones
END:VEVENT
END:VCALENDAR